Workbook
Name \r: [1]иркутск!#REF!
Name _\r: [2]иркутск!#REF!
Name __\r: [3]иркутск!#REF!
Name ___\r: [4]иркутск!#REF!
Name _____\r: [2]иркутск!#REF!
Name _______\r: [5]иркутск!#REF!
Name _________\r: [3]иркутск!#REF!
Name __________\r: [3]иркутск!#REF!
Name ___________\r: [5]иркутск!#REF!
Name ____________\r: [5]иркутск!#REF!
Name ______________\r: [3]иркутск!#REF!
Name _______________\r: [2]иркутск!#REF!
Name ______________________________\r: [6]иркутск!#REF!
Name _______________________________\r: [6]иркутск!#REF!
Name ____1: '[4]10но'!$A$1:$E$1
Name ____111: #REF!
Name ____2: '[7]янв-июн'!$A$1:$E$1
Name ____3: '[4]10но'!$A$1:$O$1
Name ____4: '[4]10но'!$A$1:$T$1
Name ____5: #REF!
Name ____6: [8]декабрь!$A$1:$T$1
Name ____8: [8]декабрь!$A$1:$O$1
Name ____9: #REF!
Name ___0: [9]сент06!$A$1:$E$1
Name ___00: #REF!
Name ___1: '[4]10но'!$A$1:$E$1
Name ___2: '[7]янв-июн'!$A$1:$E$1
Name ___22: '[7]янв-июн'!$A$1:$M$1
Name ___3: '[4]10но'!$A$1:$O$1
Name ___4: '[4]10но'!$A$1:$T$1
Name ___5: #REF!
Name ___55: [8]декабрь!$A$1:$E$1
Name ___6: [8]декабрь!$A$1:$T$1
Name ___7: #REF!
Name ___777: '[4]10но'!$A$1:$V$1
Name ___7777: #REF!
Name ___8: [8]декабрь!$A$1:$O$1
Name ___88: [8]декабрь!$A$1:$T$1
Name ___9: #REF!
Name ___mm1: [10]ПРОГНОЗ_1!#REF!
Name __0: [9]сент06!$A$1:$E$1
Name __00: #REF!
Name __000: '[4]10но'!$A$1:$T$1
Name __01: #REF!
Name __0106: #REF!
Name __0108: #REF!
Name __0111: '[7]янв-июн'!$A$1:$Q$1
Name __058: #REF!
Name __09: #REF!
Name __1: NA()
Name __10: #REF!
Name __10но: '[4]10но'!$A$1:$J$2658
Name __11: [8]декабрь!$A$1:$J$1
Name __11111111: #REF!
Name __12: '[7]янв-июн'!$A$1:$I$1
Name __1236: #REF!
Name __14: '[14]14'!$A$1:$Q$5061
Name __147: #REF!
Name __159: #REF!
Name __18: [8]декабрь!$A$1:$T$1

Sheet Прил 1
J1: приложение 3 к проекту приказа… приложение 1 к Территориальной схеме…
A2: БАЛАНС
A3: количественных характеристик образования, обработки,
A4: утилизации, обезвреживания, размещения твердых
A5: коммунальных отходов
A7: Наименование характеристик | B7: Единица измерения | C7: 2026 | D7: 2027 | E7: 2028 | F7: 2029 | G7: 2030 | H7: 2031 | I7: 2032 | J7: 2033 | K7: 2034 | L7: 2035 | M7: 2036
A8: Масса твердых коммунальных отходов и отходов производства и потребления после обработки твердых коммунальных отходов, накопленных на начало года | B8: тыс.тонн | C8: 0 | D8: 0 | E8: 0 | F8: 0 | G8: 0 | H8: 0 | I8: 0 | J8: 0 | K8: 0 | L8: 0 | M8: 0
A9: Масса твердых коммунальных отходов, принятых из других субъектов Российской Федерации в течение года | B9: тыс.тонн | C9: 1646.24 | D9: 1539.5 | E9: 1382.7 | F9: 1274.98 | G9: 1301.38 | H9: 1309.52 | I9: 1317.68 | J9: 1325.82 | K9: 1333.98 | L9: 1342.12 | M9: 1350.28
A10: Масса образованных в течение года твердых коммунальных отходов | B10: тыс.тонн | C10: 814.19 | D10: 818.27 | E10: 822.36 | F10: 826.48 | G10: 830.61 | H10: 834.76 | I10: 838.93 | J10: 843.11 | K10: 847.36 | L10: 851.59 | M10: 855.84
A11: Масса твердых коммунальных отходов, направленных на обработку в течение года | B11: тыс.тонн | C11: 615.08 | D11: 617.66 | E11: 672.37 | F11: 826.48 | G11: 830.61 | H11: 834.76 | I11: 838.93 | J11: 843.11 | K11: 847.36 | L11: 851.59 | M11: 855.84
A12: Масса твердых коммунальных отходов и отходов производства и потребления после обработки твердых коммунальных отходов, направленных на утилизацию, в том числе масса твердых коммунальных отходов и отходов производства и потребления после обработки твердых коммунальных отходов, направленных на энергетическую утилизацию твердых коммунальных отходов путем производства из их органической части искусственных грунтов в течение года | B12: тыс.тонн | C12: 96 | D12: 96 | E12: 217.69 | F12: 230 | G12: 230 | H12: 230 | I12: 230 | J12: 230 | K12: 230 | L12: 230 | M12: 230
A13: Масса естественных потерь компонентного состава в твердых коммунальных отходах, связанная с уменьшением массы твердых коммунальных отходов на объекте обработки, обезвреживания, утилизации твердых коммунальных отходов (за исключением энергетической утилизации твердых коммунальных отходов путем производства из их органической части искусственных грунтов) в связи с уменьшением влаги и другими факторами (при наличие информации) | B13: тыс.тонн | C13: 0 | D13: 0 | E13: 0 | F13: 0 | G13: 0 | H13: 0 | I13: 0 | J13: 0 | K13: 0 | L13: 0 | M13: 0
A14: Масса твердых коммунальных отходов и отходов производства и потребления после обработки твердых коммунальных отходов, направленных на обезвреживание в течение года | B14: тыс.тонн | C14: 0 | D14: 0 | E14: 0 | F14: 0 | G14: 0 | H14: 0 | I14: 0 | J14: 0 | K14: 0 | L14: 0 | M14: 0
A15: Масса твердых коммунальных отходов и отходов производства и потребления после обработки твердых коммунальных отходов, направленных на размещение в течение года | B15: тыс.тонн | C15: 641.28 | D15: 645.02 | E15: 505.65 | F15: 466.81 | G15: 470.26 | H15: 473.78 | I15: 477.31 | J15: 480.86 | K15: 484.39 | L15: 487.97 | M15: 491.55
A16: Изменение массы твердых коммунальных отходов и отходов производства и потребления после обработки твердых коммунальных отходов, направленных на накопление за год | B16: тыс.тонн | C16: 0 | D16: 0 | E16: 0 | F16: 0 | G16: 0 | H16: 0 | I16: 0 | J16: 0 | K16: 0 | L16: 0 | M16: 0
A17: Масса твердых коммунальных отходов, направленных в другие субъекты Российской Федерации в течение года | B17: тыс.тонн | C17: 0 | D17: 0 | E17: 0 | F17: 0 | G17: 0 | H17: 0 | I17: 0 | J17: 0 | K17: 0 | L17: 0 | M17: 0
A18: Расчетный коэффициент плотности твердых коммунальных отходов | B18: килограммов на куб.метр | C18: 160 | D18: 160 | E18: 160 | F18: 160 | G18: 160 | H18: 160 | I18: 160 | J18: 160 | K18: 160 | L18: 160 | M18: 160
... A22: Расчетный коэффициент плотности твердых коммунальных отходов для категории образователей отходов - ЮЛ и ИП | B22: килограммов на куб.метр | C22: 89.1 | D22: 89.1 | E22: 89.1 | F22: 89.1 | G22: 89.1 | H22: 89.1 | I22: 89.1 | J22: 89.1 | K22: 89.1 | L22: 89.1 | M22: 89.1
C26: ='[115]Прил 8'!$H$8 -> 814.19 | D26: ='[115]Прил 8'!$H$28 -> 818.27 | E26: ='[115]Прил 8'!$H$48 -> 822.36 | F26: ='[115]Прил 8'!$H$68 -> 826.48 | G26: ='[115]Прил 8'!$H$88 -> 830.61 | H26: ='[115]Прил 8'!$H$108 -> 834.76 | I26: ='[115]Прил 8'!$H$128 -> 838.93 | J26: ='[115]Прил 8'!$H$148 -> 843.11 | K26: ='[115]Прил 8'!$H$168 -> 847.36 | L26: ='[115]Прил 8'!$H$188 -> 851.59 | M26: ='[115]Прил 8'!$H$208 -> 855.84
C27: =C10=C26 -> TRUE | D27: =D10=D26 -> TRUE | E27: =E10=E26 -> TRUE | F27: =F10=F26 -> TRUE | G27: =G10=G26 -> TRUE | H27: =H10=H26 -> TRUE | I27: =I10=I26 -> TRUE | J27: =J10=J26 -> TRUE | ... M27: =M10=M26 -> TRUE
C28: ='[115]Прил 8'!$J$8 -> 615.08 | D28: ='[115]Прил 8'!$J$28 -> 617.66 | E28: ='[115]Прил 8'!$J$48 -> 822.36 | F28: ='[115]Прил 8'!$J$68 -> 826.48 | G28: ='[115]Прил 8'!$J$88 -> 830.61 | H28: ='[115]Прил 8'!$J$108 -> 834.76 | I28: ='[115]Прил 8'!$J$128 -> 838.93 | J28: ='[115]Прил 8'!$J$148 -> 843.11 | K28: ='[115]Прил 8'!$J$168 -> 847.36 | L28: ='[115]Прил 8'!$J$188 -> 851.59 | M28: ='[115]Прил 8'!$J$208 -> 855.84
C29: =C11=C28 -> TRUE | D29: =D11=D28 -> TRUE | E29: =E11=E28 -> FALSE | F29: =F11=F28 -> TRUE | G29: =G11=G28 -> TRUE | H29: =H11=H28 -> TRUE | I29: =I11=I28 -> TRUE | J29: =J11=J28 -> TRUE | ... M29: =M11=M28 -> TRUE
C30: ='[115]Прил 8'!$Q$8 -> 639.22 | D30: ='[115]Прил 8'!$Q$28 -> 642.94 | E30: ='[115]Прил 8'!$Q$48 -> 461.26 | F30: ='[115]Прил 8'!$Q$68 -> 464.71 | G30: ='[115]Прил 8'!$Q$88 -> 468.17 | H30: ='[115]Прил 8'!$Q$108 -> 471.68 | I30: ='[115]Прил 8'!$Q$128 -> 475.19 | J30: ='[115]Прил 8'!$Q$148 -> 478.73 | K30: ='[115]Прил 8'!$Q$168 -> 482.26 | L30: ='[115]Прил 8'!$Q$188 -> 485.82 | M30: ='[115]Прил 8'!$Q$208 -> 489.39
C31: =C30=C15 -> FALSE | D31: =D30=D15 -> FALSE | E31: =E30=E15 -> FALSE | F31: =F30=F15 -> FALSE | G31: =G30=G15 -> FALSE | H31: =H30=H15 -> FALSE | I31: =I30=I15 -> FALSE | J31: =J30=J15 -> FALSE | ... M31: =M30=M15 -> FALSE

Sheet Объем_масса
A1: Масса ТКО, образуемых на территории Республики Алтай, в разрезе муниципальных районов, за период с 2025 по 2035 годы, тонн
A3: Наименование муниципального района или городского округа/зоны деятельности регионального оператора | B3: 2025 год | G3: 2026 год | L3: 2027 год | Q3: 2028 год | V3: 2029 год | AA3: 2030 год
B4: ИТОГО | C4: ИЖС | D4: МКД | E4: ЮЛ, ИП | F4: Мед.отходы | G4: ИТОГО | H4: ИЖС | I4: МКД | J4: ЮЛ, ИП | K4: Мед.отходы | L4: ИТОГО | M4: ИЖС | N4: МКД | O4: ЮЛ, ИП | P4: Мед.отходы | Q4: ИТОГО | R4: ИЖС | S4: МКД | T4: ЮЛ, ИП | U4: Мед.отходы | V4: ИТОГО | W4: ИЖС | X4: МКД | Y4: ЮЛ, ИП | Z4: Мед.отходы | AA4: ИТОГО | AB4: ИЖС | AC4: МКД | AD4: ЮЛ, ИП | AE4: Мед.отходы
A5: Республика Алтай | B5: =B6+B12+B17 -> 73254.578 | C5: =C6+C12+C17 -> 54156.97 | D5: =D6+D12+D17 -> 8372.0627 | E5: =E6+E12+E17 -> 8951 | F5: =F6+F12+F17 -> 1774.5457 | G5: =G6+G12+G17 -> 72172.863 | H5: =H6+H12+H17 -> 53220.086 | I5: =I6+I12+I17 -> 8227.231 | ... AE5: =AE6+AE12+AE17 -> 1774.5457
A6: АПО-1 | B6: =SUM(B7:B11) -> 46105.023 | C6: =SUM(C7:C11) -> 28820.383 | D6: =SUM(D7:D11) -> 7569.4616 | E6: =SUM(E7:E11) -> 8483.997 | F6: =SUM(F7:F11) -> 1231.1813 | G6: =SUM(G7:G11) -> 45475.5 | H6: =SUM(H7:H11) -> 28321.807 | I6: =SUM(I7:I11) -> 7438.5144 | ... AE6: =SUM(AE7:AE11) -> 1231.1813
A7: Городской округ город Горно- Алтайск | B7: =SUM(C7:F7) -> 26380.055 | C7: =[116]Численность_МР!F6*$C$93/1000*12 -> 12668.014 | D7: =[116]Численность_МР!G6*$D$93/1000*12 -> 5840.208 | E7: ='[116]2022'!C26 -> 6899.092 | F7: =[116]Мед.отходы!I4+[116]Мед.отходы!I5+[116]Мед.отходы!I7+[116]Мед.отходы!I8+[116]Мед.отходы!I9+[116]Мед.отходы!I10+[116]Мед.отходы!I12+[116]Мед.отходы!I16+[116]Мед.отходы!I17+[116]Мед.отходы!I19+[116]Мед.отходы!I20+[116]Мед.отходы!I24 -> 972.74126 | G7: =SUM(H7:K7) -> 26059.874 | H7: =[116]Численность_МР!I6*$C$93/1000*12 -> 12448.865 | I7: =[116]Численность_МР!J6*$D$93/1000*12 -> 5739.1758 | J7: =E7 -> 6899.092 | K7: =F7 -> 972.74126 | L7: =SUM(M7:P7) -> 25745.231 | M7: =[116]Численность_МР!L6*$C$93/1000*12 -> 12233.507 | N7: =[116]Численность_МР!M6*$D$93/1000*12 -> 5639.8915 | O7: =J7 -> 6899.092 | P7: =K7 -> 972.74126 | Q7: =SUM(R7:U7) -> 25436.032 | R7: =[116]Численность_МР!O6*$C$93/1000*12 -> 12021.874 | S7: =[116]Численность_МР!P6*$D$93/1000*12 -> 5542.3247 | T7: =O7 -> 6899.092 | U7: =P7 -> 972.74126 | V7: =SUM(W7:Z7) -> 25132.182 | W7: =[116]Численность_МР!R6*$C$93/1000*12 -> 11813.903 | X7: =[116]Численность_МР!S6*$D$93/1000*12 -> 5446.4458 | Y7: =T7 -> 6899.092 | Z7: =U7 -> 972.74126 | AA7: =SUM(AB7:AE7) -> 24833.588 | AB7: =[116]Численность_МР!U6*$C$93/1000*12 -> 11609.529 | AC7: =[116]Численность_МР!V6*$D$93/1000*12 -> 5352.2255 | AD7: =Y7 -> 6899.092 | AE7: =Z7 -> 972.74126
A8: Майминский муниципальный район | B8: =SUM(C8:F8) -> 10399.474 | C8: =[116]Численность_МР!F7*$C$93/1000*12 -> 7568.3181 | D8: =[116]Численность_МР!G7*$D$93/1000*12 -> 1599.4218 | E8: ='[116]2022'!C27 -> 1105.894 | F8: =[116]Мед.отходы!I21+[116]Мед.отходы!I22 -> 125.84 | G8: =SUM(H8:K8) -> 10240.877 | H8: =[116]Численность_МР!I7*$C$93/1000*12 -> 7437.3907 | I8: =[116]Численность_МР!J7*$D$93/1000*12 -> 1571.7528 | J8: =E8 -> 1105.894 | K8: =F8 -> 125.84 | L8: =SUM(M8:P8) -> 10085.025 | M8: =[116]Численность_МР!L7*$C$93/1000*12 -> 7308.7283 | N8: =[116]Численность_МР!M7*$D$93/1000*12 -> 1544.5624 | O8: =J8 -> 1105.894 | P8: =K8 -> 125.84 | Q8: =SUM(R8:U8) -> 9931.868 | R8: =[116]Численность_МР!O7*$C$93/1000*12 -> 7182.2916 | S8: =[116]Численность_МР!P7*$D$93/1000*12 -> 1517.8424 | T8: =O8 -> 1105.894 | U8: =P8 -> 125.84 | V8: =SUM(W8:Z8) -> 9781.3608 | W8: =[116]Численность_МР!R7*$C$93/1000*12 -> 7058.0422 | X8: =[116]Численность_МР!S7*$D$93/1000*12 -> 1491.5846 | Y8: =T8 -> 1105.894 | Z8: =U8 -> 125.84 | AA8: =SUM(AB8:AE8) -> 9633.4573 | AB8: =[116]Численность_МР!U7*$C$93/1000*12 -> 6935.9423 | AC8: =[116]Численность_МР!V7*$D$93/1000*12 -> 1465.7811 | AD8: =Y8 -> 1105.894 | AE8: =Z8 -> 125.84
A9: Турочакский муниципальный район | B9: =SUM(C9:F9) -> 3445.5393 | C9: =[116]Численность_МР!F8*$C$93/1000*12 -> 3201.1039 | D9: =[116]Численность_МР!G8*$D$93/1000*12 -> 27.503354 | E9: ='[116]2022'!C28 -> 195.532 | F9: =[116]Мед.отходы!I15 -> 21.4 | G9: =SUM(H9:K9) -> 3389.6863 | H9: =[116]Численность_МР!I8*$C$93/1000*12 -> 3145.7267 | I9: =[116]Численность_МР!J8*$D$93/1000*12 -> 27.027563 | J9: =E9 -> 195.532 | K9: =F9 -> 21.4 | L9: =SUM(M9:P9) -> 3334.7995 | M9: =[116]Численность_МР!L8*$C$93/1000*12 -> 3091.3075 | N9: =[116]Численность_МР!M8*$D$93/1000*12 -> 26.560002 | O9: =J9 -> 195.532 | P9: =K9 -> 21.4 | Q9: =SUM(R9:U9) -> 3280.8623 | R9: =[116]Численность_МР!O8*$C$93/1000*12 -> 3037.8298 | S9: =[116]Численность_МР!P8*$D$93/1000*12 -> 26.100529 | T9: =O9 -> 195.532 | U9: =P9 -> 21.4 | V9: =SUM(W9:Z9) -> 3227.8581 | W9: =[116]Численность_МР!R8*$C$93/1000*12 -> 2985.2771 | X9: =[116]Численность_МР!S8*$D$93/1000*12 -> 25.649006 | Y9: =T9 -> 195.532 | Z9: =U9 -> 21.4 | AA9: =SUM(AB9:AE9) -> 3175.7709 | AB9: =[116]Численность_МР!U8*$C$93/1000*12 -> 2933.6336 | AC9: =[116]Численность_МР!V8*$D$93/1000*12 -> 25.205293 | AD9: =Y9 -> 195.532 | AE9: =Z9 -> 21.4
A10: Чемальский муниципальный район | B10: =SUM(C10:F10) -> 3408.2674 | C10: =[116]Численность_МР!F9*$C$93/1000*12 -> 3138.0234 | D10: =[116]Численность_МР!G9*$D$93/1000*12 -> 93.444016 | E10: ='[116]2022'!C29 -> 107.4 | F10: =[116]Мед.отходы!I26 -> 69.4 | G10: =SUM(H10:K10) -> 3352.3649 | H10: =[116]Численность_МР!I9*$C$93/1000*12 -> 3083.7374 | I10: =[116]Численность_МР!J9*$D$93/1000*12 -> 91.82749 | J10: =E10 -> 107.4 | K10: =F10 -> 69.4 | L10: =SUM(M10:P10) -> 3297.4295 | M10: =[116]Численность_МР!L9*$C$93/1000*12 -> 3030.3906 | N10: =[116]Численность_МР!M9*$D$93/1000*12 -> 90.238929 | O10: =J10 -> 107.4 | P10: =K10 -> 69.4 | Q10: =SUM(R10:U10) -> 3243.4445 | R10: =[116]Численность_МР!O9*$C$93/1000*12 -> 2977.9667 | S10: =[116]Численность_МР!P9*$D$93/1000*12 -> 88.677849 | T10: =O10 -> 107.4 | U10: =P10 -> 69.4 | V10: =SUM(W10:Z10) -> 3190.3934 | W10: =[116]Численность_МР!R9*$C$93/1000*12 -> 2926.4496 | X10: =[116]Численность_МР!S9*$D$93/1000*12 -> 87.143775 | Y10: =T10 -> 107.4 | Z10: =U10 -> 69.4 | AA10: =SUM(AB10:AE10) -> 3138.26 | AB10: =[116]Численность_МР!U9*$C$93/1000*12 -> 2875.8238 | AC10: =[116]Численность_МР!V9*$D$93/1000*12 -> 85.636239 | AD10: =Y10 -> 107.4 | AE10: =Z10 -> 69.4
A11: Чойский муниципальный район | B11: =SUM(C11:F11) -> 2471.6871 | C11: =[116]Численность_МР!F10*$C$93/1000*12 -> 2244.9237 | D11: =[116]Численность_МР!G10*$D$93/1000*12 -> 8.8844339 | E11: ='[116]2022'!C30 -> 176.079 | F11: =[116]Мед.отходы!I18 -> 41.8 | G11: =SUM(H11:K11) -> 2432.6976 | H11: =[116]Численность_МР!I10*$C$93/1000*12 -> 2206.0879 | I11: =[116]Численность_МР!J10*$D$93/1000*12 -> 8.7307385 | J11: =E11 -> 176.079 | K11: =F11 -> 41.8 | L11: =SUM(M11:P11) -> 2394.3825 | M11: =[116]Численность_МР!L10*$C$93/1000*12 -> 2167.9238 | N11: =[116]Численность_МР!M10*$D$93/1000*12 -> 8.5797019 | O11: =J11 -> 176.079 | P11: =K11 -> 41.8 | Q11: =SUM(R11:U11) -> 2356.7303 | R11: =[116]Численность_МР!O10*$C$93/1000*12 -> 2130.42 | S11: =[116]Численность_МР!P10*$D$93/1000*12 -> 8.4312781 | T11: =O11 -> 176.079 | U11: =P11 -> 41.8 | V11: =SUM(W11:Z11) -> 2319.7295 | W11: =[116]Численность_МР!R10*$C$93/1000*12 -> 2093.565 | X11: =[116]Численность_МР!S10*$D$93/1000*12 -> 8.285422 | Y11: =T11 -> 176.079 | Z11: =U11 -> 41.8 | AA11: =SUM(AB11:AE11) -> 2283.3687 | AB11: =[116]Численность_МР!U10*$C$93/1000*12 -> 2057.3476 | AC11: =[116]Численность_МР!V10*$D$93/1000*12 -> 8.1420891 | AD11: =Y11 -> 176.079 | AE11: =Z11 -> 41.8
A12: АПО-2 | B12: =SUM(B13:B16) -> 17476.111 | C12: =SUM(C13:C16) -> 16195.433 | D12: =SUM(D13:D16) -> 627.35898 | E12: =SUM(E13:E16) -> 393.075 | F12: =SUM(F13:F16) -> 260.24444 | G12: =SUM(G13:G16) -> 17185.087 | H12: =SUM(H13:H16) -> 15915.261 | I12: =SUM(I13:I16) -> 616.50604 | ... AE12: =SUM(AE13:AE16) -> 260.24444
A13: Онгудайский муниципальный район | B13: =SUM(C13:F13) -> 4296.3239 | C13: =[116]Численность_МР!F11*$C$93/1000*12 -> 3705.4264 | D13: =[116]Численность_МР!G11*$D$93/1000*12 -> 479.43411 | E13: ='[116]2022'!C32 -> 42.019 | F13: =[116]Мед.отходы!I6 -> 69.444444 | G13: =SUM(H13:K13) -> 4223.9283 | H13: =[116]Численность_МР!I11*$C$93/1000*12 -> 3641.3247 | I13: =[116]Численность_МР!J11*$D$93/1000*12 -> 471.14018 | J13: =E13 -> 42.019 | K13: =F13 -> 69.444444 | L13: =SUM(M13:P13) -> 4152.7851 | M13: =[116]Численность_МР!L11*$C$93/1000*12 -> 3578.3319 | N13: =[116]Численность_МР!M11*$D$93/1000*12 -> 462.98974 | O13: =J13 -> 42.019 | P13: =K13 -> 69.444444 | Q13: =SUM(R13:U13) -> 4082.8727 | R13: =[116]Численность_МР!O11*$C$93/1000*12 -> 3516.4289 | S13: =[116]Численность_МР!P11*$D$93/1000*12 -> 454.98029 | T13: =O13 -> 42.019 | U13: =P13 -> 69.444444 | V13: =SUM(W13:Z13) -> 4014.1696 | W13: =[116]Численность_МР!R11*$C$93/1000*12 -> 3455.5968 | X13: =[116]Численность_МР!S11*$D$93/1000*12 -> 447.1094 | Y13: =T13 -> 42.019 | Z13: =U13 -> 69.444444 | AA13: =SUM(AB13:AE13) -> 3946.6551 | AB13: =[116]Численность_МР!U11*$C$93/1000*12 -> 3395.817 | AC13: =[116]Численность_МР!V11*$D$93/1000*12 -> 439.37467 | AD13: =Y13 -> 42.019 | AE13: =Z13 -> 69.444444
A14: Усть-Канский муниципальный район | B14: =SUM(C14:F14) -> 4441.2574 | C14: =[116]Численность_МР!F12*$C$93/1000*12 -> 4229.7643 | D14: =[116]Численность_МР!G12*$D$93/1000*12 -> 56.488049 | E14: ='[116]2022'!C33 -> 78.005 | F14: =[116]Мед.отходы!I25 -> 77 | G14: =SUM(H14:K14) -> 4367.1078 | H14: =[116]Численность_МР!I12*$C$93/1000*12 -> 4156.5919 | I14: =[116]Численность_МР!J12*$D$93/1000*12 -> 55.51084 | J14: =E14 -> 78.005 | K14: =F14 -> 77 | L14: =SUM(M14:P14) -> 4294.2409 | M14: =[116]Численность_МР!L12*$C$93/1000*12 -> 4084.6854 | N14: =[116]Численность_МР!M12*$D$93/1000*12 -> 54.550535 | O14: =J14 -> 78.005 | P14: =K14 -> 77 | Q14: =SUM(R14:U14) -> 4222.6346 | R14: =[116]Численность_МР!O12*$C$93/1000*12 -> 4014.0227 | S14: =[116]Численность_МР!P12*$D$93/1000*12 -> 53.606843 | T14: =O14 -> 78.005 | U14: =P14 -> 77 | V14: =SUM(W14:Z14) -> 4152.267 | W14: =[116]Численность_МР!R12*$C$93/1000*12 -> 3944.5825 | X14: =[116]Численность_МР!S12*$D$93/1000*12 -> 52.679477 | Y14: =T14 -> 78.005 | Z14: =U14 -> 77 | AA14: =SUM(AB14:AE14) -> 4083.1167 | AB14: =[116]Численность_МР!U12*$C$93/1000*12 -> 3876.3436 | AC14: =[116]Численность_МР!V12*$D$93/1000*12 -> 51.768153 | AD14: =Y14 -> 78.005 | AE14: =Z14 -> 77
A15: Усть-Коксинский муниципальный район | B15: =SUM(C15:F15) -> 4809.0168 | C15: =[116]Численность_МР!F13*$C$93/1000*12 -> 4636.3611 | D15: =[116]Численность_МР!G13*$D$93/1000*12 -> 72.261623 | E15: ='[116]2022'!C34 -> 59.594 | F15: =[116]Мед.отходы!I13 -> 40.8 | G15: =SUM(H15:K15) -> 4727.5604 | H15: =[116]Численность_МР!I13*$C$93/1000*12 -> 4556.1548 | I15: =[116]Численность_МР!J13*$D$93/1000*12 -> 71.01154 | J15: =E15 -> 59.594 | K15: =F15 -> 40.8 | L15: =SUM(M15:P15) -> 4647.5131 | M15: =[116]Численность_МР!L13*$C$93/1000*12 -> 4477.3361 | N15: =[116]Численность_МР!M13*$D$93/1000*12 -> 69.783083 | O15: =J15 -> 59.594 | P15: =K15 -> 40.8 | Q15: =SUM(R15:U15) -> 4568.8507 | R15: =[116]Численность_МР!O13*$C$93/1000*12 -> 4399.8808 | S15: =[116]Численность_МР!P13*$D$93/1000*12 -> 68.575877 | T15: =O15 -> 59.594 | U15: =P15 -> 40.8 | V15: =SUM(W15:Z15) -> 4491.549 | W15: =[116]Численность_МР!R13*$C$93/1000*12 -> 4323.7655 | X15: =[116]Численность_МР!S13*$D$93/1000*12 -> 67.389555 | Y15: =T15 -> 59.594 | Z15: =U15 -> 40.8 | AA15: =SUM(AB15:AE15) -> 4415.5847 | AB15: =[116]Численность_МР!U13*$C$93/1000*12 -> 4248.9669 | AC15: =[116]Численность_МР!V13*$D$93/1000*12 -> 66.223755 | AD15: =Y15 -> 59.594 | AE15: =Z15 -> 40.8
A16: Шебалинский муниципальный район | B16: =SUM(C16:F16) -> 3929.5131 | C16: =[116]Численность_МР!F14*$C$93/1000*12 -> 3623.8809 | D16: =[116]Численность_МР!G14*$D$93/1000*12 -> 19.175196 | E16: ='[116]2022'!C35 -> 213.457 | F16: =[116]Мед.отходы!I11 -> 73 | G16: =SUM(H16:K16) -> 3866.4904 | H16: =[116]Численность_МР!I14*$C$93/1000*12 -> 3561.1899 | I16: =[116]Численность_МР!J14*$D$93/1000*12 -> 18.843476 | J16: =E16 -> 213.457 | K16: =F16 -> 73 | L16: =SUM(M16:P16) -> 3804.558 | M16: =[116]Численность_МР!L14*$C$93/1000*12 -> 3499.5835 | N16: =[116]Численность_МР!M14*$D$93/1000*12 -> 18.517495 | O16: =J16 -> 213.457 | P16: =K16 -> 73 | Q16: =SUM(R16:U16) -> 3743.6969 | R16: =[116]Численность_МР!O14*$C$93/1000*12 -> 3439.0427 | S16: =[116]Численность_МР!P14*$D$93/1000*12 -> 18.197153 | T16: =O16 -> 213.457 | U16: =P16 -> 73 | V16: =SUM(W16:Z16) -> 3683.8887 | W16: =[116]Численность_МР!R14*$C$93/1000*12 -> 3379.5493 | X16: =[116]Численность_МР!S14*$D$93/1000*12 -> 17.882353 | Y16: =T16 -> 213.457 | Z16: =U16 -> 73 | AA16: =SUM(AB16:AE16) -> 3625.1151 | AB16: =[116]Численность_МР!U14*$C$93/1000*12 -> 3321.0851 | AC16: =[116]Численность_МР!V14*$D$93/1000*12 -> 17.572999 | AD16: =Y16 -> 213.457 | AE16: =Z16 -> 73
A17: АПО-3 | B17: =SUM(B18:B19) -> 9673.4445 | C17: =SUM(C18:C19) -> 9141.1543 | D17: =SUM(D18:D19) -> 175.24219 | E17: =SUM(E18:E19) -> 73.928 | F17: =SUM(F18:F19) -> 283.12 | G17: =SUM(G18:G19) -> 9512.2763 | H17: =SUM(H18:H19) -> 8983.0177 | I17: =SUM(I18:I19) -> 172.21061 | ... AE17: =SUM(AE18:AE19) -> 283.12
A18: Кош-Агачский муниципальный район | B18: =SUM(C18:F18) -> 6014.7316 | C18: =[116]Численность_МР!F15*$C$93/1000*12 -> 5694.3216 | D18: =[116]Численность_МР!G15*$D$93/1000*12 -> 0 | E18: ='[116]2022'!C37 -> 39.69 | F18: =[116]Мед.отходы!I23 -> 280.72 | G18: =SUM(H18:K18) -> 5916.2232 | H18: =[116]Численность_МР!I15*$C$93/1000*12 -> 5595.8132 | I18: =[116]Численность_МР!J15*$D$93/1000*12 -> 0 | J18: =E18 -> 39.69 | K18: =F18 -> 280.72 | L18: =SUM(M18:P18) -> 5819.419 | M18: =[116]Численность_МР!L15*$C$93/1000*12 -> 5499.009 | N18: =[116]Численность_МР!M15*$D$93/1000*12 -> 0 | O18: =J18 -> 39.69 | P18: =K18 -> 280.72 | Q18: =SUM(R18:U18) -> 5724.2894 | R18: =[116]Численность_МР!O15*$C$93/1000*12 -> 5403.8794 | S18: =[116]Численность_МР!P15*$D$93/1000*12 -> 0 | T18: =O18 -> 39.69 | U18: =P18 -> 280.72 | V18: =SUM(W18:Z18) -> 5630.8055 | W18: =[116]Численность_МР!R15*$C$93/1000*12 -> 5310.3955 | X18: =[116]Численность_МР!S15*$D$93/1000*12 -> 0 | Y18: =T18 -> 39.69 | Z18: =U18 -> 280.72 | AA18: =SUM(AB18:AE18) -> 5538.9388 | AB18: =[116]Численность_МР!U15*$C$93/1000*12 -> 5218.5288 | AC18: =[116]Численность_МР!V15*$D$93/1000*12 -> 0 | AD18: =Y18 -> 39.69 | AE18: =Z18 -> 280.72
A19: Улаганский муниципальный район | B19: =SUM(C19:F19) -> 3658.7129 | C19: =[116]Численность_МР!F16*$C$93/1000*12 -> 3446.8327 | D19: =[116]Численность_МР!G16*$D$93/1000*12 -> 175.24219 | E19: ='[116]2022'!C38 -> 34.238 | F19: =[116]Мед.отходы!I14 -> 2.4 | G19: =SUM(H19:K19) -> 3596.0531 | H19: =[116]Численность_МР!I16*$C$93/1000*12 -> 3387.2045 | I19: =[116]Численность_МР!J16*$D$93/1000*12 -> 172.21061 | J19: =E19 -> 34.238 | K19: =F19 -> 2.4 | L19: =SUM(M19:P19) -> 3534.4774 | M19: =[116]Численность_МР!L16*$C$93/1000*12 -> 3328.6079 | N19: =[116]Численность_МР!M16*$D$93/1000*12 -> 169.23147 | O19: =J19 -> 34.238 | P19: =K19 -> 2.4 | Q19: =SUM(R19:U19) -> 3473.9668 | R19: =[116]Численность_МР!O16*$C$93/1000*12 -> 3271.0249 | S19: =[116]Численность_МР!P16*$D$93/1000*12 -> 166.30386 | T19: =O19 -> 34.238 | U19: =P19 -> 2.4 | V19: =SUM(W19:Z19) -> 3414.5031 | W19: =[116]Численность_МР!R16*$C$93/1000*12 -> 3214.4382 | X19: =[116]Численность_МР!S16*$D$93/1000*12 -> 163.4269 | Y19: =T19 -> 34.238 | Z19: =U19 -> 2.4 | AA19: =SUM(AB19:AE19) -> 3356.068 | AB19: =[116]Численность_МР!U16*$C$93/1000*12 -> 3158.8303 | AC19: =[116]Численность_МР!V16*$D$93/1000*12 -> 160.59972 | AD19: =Y19 -> 34.238 | AE19: =Z19 -> 2.4
B20: =B5/B50 -> 0.18440767 | C20: =C5/C50 -> 0.1850362 | D20: =D5/D50 -> 0.18502944 | E20: =E5/E50 -> 0.18 | F20: =F5/F50 -> 0.18514725
A24: Наименование муниципального района или городского округа/зоны деятельности регионального оператора | B24: 2031 год | G24: 2032 год | L24: 2033 год | Q24: 2034 год | V24: 2035 год
B25: ИТОГО | C25: ИЖС | D25: МКД | E25: ЮЛ, ИП | F25: Мед.отходы | G25: ИТОГО | H25: ИЖС | I25: МКД | J25: ЮЛ, ИП | K25: Мед.отходы | L25: ИТОГО | M25: ИЖС | N25: МКД | O25: ЮЛ, ИП | P25: Мед.отходы | Q25: ИТОГО | R25: ИЖС | S25: МКД | T25: ЮЛ, ИП | U25: Мед.отходы | V25: ИТОГО | W25: ИЖС | X25: МКД | Y25: ЮЛ, ИП | Z25: Мед.отходы
A26: Республика Алтай | B26: =B27+B33+B38 -> 67038.592 | C26: =C27+C33+C38 -> 48773.247 | D26: =D27+D33+D38 -> 7539.7993 | E26: =E27+E33+E38 -> 8951 | F26: =F27+F33+F38 -> 1774.5457 | G26: =G27+G33+G38 -> 66064.409 | H26: =H27+H33+H38 -> 47929.498 | I26: =I27+I33+I38 -> 7409.3652 | ... Z26: =Z27+Z33+Z38 -> 1774.5457
A27: АПО-1 | B27: =SUM(B28:B32) -> 42487.522 | C27: =SUM(C28:C32) -> 25955.36 | D27: =SUM(D28:D32) -> 6816.9844 | E27: =SUM(E28:E32) -> 8483.997 | F27: =SUM(F28:F32) -> 1231.1813 | G27: =SUM(G28:G32) -> 41920.58 | H27: =SUM(H28:H32) -> 25506.348 | I27: =SUM(I28:I32) -> 6699.0546 | ... Z27: =SUM(Z28:Z32) -> 1231.1813
A28: Городской округ город Горно- Алтайск | B28: =SUM(C28:F28) -> 24540.16 | C28: =[116]Численность_МР!X6*$C$93/1000*12 -> 11408.691 | D28: =[116]Численность_МР!Y6*$D$93/1000*12 -> 5259.6352 | E28: =AD7 -> 6899.092 | F28: =AE7 -> 972.74126 | G28: =SUM(H28:K28) -> 24251.808 | H28: =[116]Численность_МР!AA6*$C$93/1000*12 -> 11211.328 | I28: =[116]Численность_МР!AB6*$D$93/1000*12 -> 5168.6466 | J28: =E28 -> 6899.092 | K28: =F28 -> 972.74126 | L28: =SUM(M28:P28) -> 23968.444 | M28: =[116]Численность_МР!AD6*$C$93/1000*12 -> 11017.378 | N28: =[116]Численность_МР!AE6*$D$93/1000*12 -> 5079.2321 | O28: =J28 -> 6899.092 | P28: =K28 -> 972.74126 | Q28: =SUM(R28:U28) -> 23689.982 | R28: =[116]Численность_МР!AG6*$C$93/1000*12 -> 10826.784 | S28: =[116]Численность_МР!AH6*$D$93/1000*12 -> 4991.3644 | T28: =O28 -> 6899.092 | U28: =P28 -> 972.74126 | V28: =SUM(W28:Z28) -> 23416.337 | W28: =[116]Численность_МР!AJ6*$C$93/1000*12 -> 10639.487 | X28: =[116]Численность_МР!AK6*$D$93/1000*12 -> 4905.0167 | Y28: =T28 -> 6899.092 | Z28: =U28 -> 972.74126
A29: Майминский муниципальный район | B29: =SUM(C29:F29) -> 9488.1125 | C29: =[116]Численность_МР!X7*$C$93/1000*12 -> 6815.9546 | D29: =[116]Численность_МР!Y7*$D$93/1000*12 -> 1440.4239 | E29: =AD8 -> 1105.894 | F29: =AE8 -> 125.84 | G29: =SUM(H29:K29) -> 9345.282 | H29: =[116]Численность_МР!AA7*$C$93/1000*12 -> 6698.0426 | I29: =[116]Численность_МР!AB7*$D$93/1000*12 -> 1415.5054 | J29: =E29 -> 1105.894 | K29: =F29 -> 125.84 | L29: =SUM(M29:P29) -> 9204.9225 | M29: =[116]Численность_МР!AD7*$C$93/1000*12 -> 6582.1704 | N29: =[116]Численность_МР!AE7*$D$93/1000*12 -> 1391.018 | O29: =J29 -> 1105.894 | P29: =K29 -> 125.84 | Q29: =SUM(R29:U29) -> 9066.991 | R29: =[116]Численность_МР!AG7*$C$93/1000*12 -> 6468.3028 | S29: =[116]Численность_МР!AH7*$D$93/1000*12 -> 1366.9542 | T29: =O29 -> 1105.894 | U29: =P29 -> 125.84 | V29: =SUM(W29:Z29) -> 8931.4457 | W29: =[116]Численность_МР!AJ7*$C$93/1000*12 -> 6356.405 | X29: =[116]Численность_МР!AK7*$D$93/1000*12 -> 1343.3068 | Y29: =T29 -> 1105.894 | Z29: =U29 -> 125.84
A30: Турочакский муниципальный район | B30: =SUM(C30:F30) -> 3124.5847 | C30: =[116]Численность_МР!X8*$C$93/1000*12 -> 2882.8835 | D30: =[116]Численность_МР!Y8*$D$93/1000*12 -> 24.769257 | E30: =AD9 -> 195.532 | F30: =AE9 -> 21.4 | G30: =SUM(H30:K30) -> 3074.284 | H30: =[116]Численность_МР!AA8*$C$93/1000*12 -> 2833.0113 | I30: =[116]Численность_МР!AB8*$D$93/1000*12 -> 24.340763 | J30: =E30 -> 195.532 | K30: =F30 -> 21.4 | L30: =SUM(M30:P30) -> 3024.8535 | M30: =[116]Численность_МР!AD8*$C$93/1000*12 -> 2784.0019 | N30: =[116]Численность_МР!AE8*$D$93/1000*12 -> 23.919682 | O30: =J30 -> 195.532 | P30: =K30 -> 21.4 | Q30: =SUM(R30:U30) -> 2976.2782 | R30: =[116]Численность_МР!AG8*$C$93/1000*12 -> 2735.8403 | S30: =[116]Численность_МР!AH8*$D$93/1000*12 -> 23.505886 | T30: =O30 -> 195.532 | U30: =P30 -> 21.4 | V30: =SUM(W30:Z30) -> 2928.5431 | W30: =[116]Численность_МР!AJ8*$C$93/1000*12 -> 2688.5119 | X30: =[116]Численность_МР!AK8*$D$93/1000*12 -> 23.099248 | Y30: =T30 -> 195.532 | Z30: =U30 -> 21.4
A31: Чемальский муниципальный район | B31: =SUM(C31:F31) -> 3087.0285 | C31: =[116]Численность_МР!X9*$C$93/1000*12 -> 2826.0737 | D31: =[116]Численность_МР!Y9*$D$93/1000*12 -> 84.154783 | E31: =AD10 -> 107.4 | F31: =AE10 -> 69.4 | G31: =SUM(H31:K31) -> 3036.6833 | H31: =[116]Численность_МР!AA9*$C$93/1000*12 -> 2777.1843 | I31: =[116]Численность_МР!AB9*$D$93/1000*12 -> 82.698955 | J31: =E31 -> 107.4 | K31: =F31 -> 69.4 | L31: =SUM(M31:P31) -> 2987.209 | M31: =[116]Численность_МР!AD9*$C$93/1000*12 -> 2729.1407 | N31: =[116]Численность_МР!AE9*$D$93/1000*12 -> 81.268312 | O31: =J31 -> 107.4 | P31: =K31 -> 69.4 | Q31: =SUM(R31:U31) -> 2938.5906 | R31: =[116]Численность_МР!AG9*$C$93/1000*12 -> 2681.9282 | S31: =[116]Численность_МР!AH9*$D$93/1000*12 -> 79.862419 | T31: =O31 -> 107.4 | U31: =P31 -> 69.4 | V31: =SUM(W31:Z31) -> 2890.8132 | W31: =[116]Численность_МР!AJ9*$C$93/1000*12 -> 2635.5324 | X31: =[116]Численность_МР!AK9*$D$93/1000*12 -> 78.480846 | Y31: =T31 -> 107.4 | Z31: =U31 -> 69.4
A32: Чойский муниципальный район | B32: =SUM(C32:F32) -> 2247.637 | C32: =[116]Численность_МР!X10*$C$93/1000*12 -> 2021.7567 | D32: =[116]Численность_МР!Y10*$D$93/1000*12 -> 8.0012358 | E32: =AD11 -> 176.079 | F32: =AE11 -> 41.8 | G32: =SUM(H32:K32) -> 2212.5233 | H32: =[116]Численность_МР!AA10*$C$93/1000*12 -> 1986.7815 | I32: =[116]Численность_МР!AB10*$D$93/1000*12 -> 7.8628192 | J32: =E32 -> 176.079 | K32: =F32 -> 41.8 | L32: =SUM(M32:P32) -> 2178.0172 | M32: =[116]Численность_МР!AD10*$C$93/1000*12 -> 1952.4114 | N32: =[116]Численность_МР!AE10*$D$93/1000*12 -> 7.7267971 | O32: =J32 -> 176.079 | P32: =K32 -> 41.8 | Q32: =SUM(R32:U32) -> 2144.108 | R32: =[116]Численность_МР!AG10*$C$93/1000*12 -> 1918.6358 | S32: =[116]Численность_МР!AH10*$D$93/1000*12 -> 7.5931281 | T32: =O32 -> 176.079 | U32: =P32 -> 41.8 | V32: =SUM(W32:Z32) -> 2110.7853 | W32: =[116]Численность_МР!AJ10*$C$93/1000*12 -> 1885.4446 | X32: =[116]Численность_МР!AK10*$D$93/1000*12 -> 7.4617715 | Y32: =T32 -> 176.079 | Z32: =U32 -> 41.8
A33: АПО-2 | B33: =SUM(B34:B37) -> 15803.764 | C33: =SUM(C34:C37) -> 14585.451 | D33: =SUM(D34:D37) -> 564.99347 | E33: =SUM(E34:E37) -> 393.075 | F33: =SUM(F34:F37) -> 260.24444 | G33: =SUM(G34:G37) -> 15541.67 | H33: =SUM(H34:H37) -> 14333.132 | I33: =SUM(I34:I37) -> 555.21942 | ... Z33: =SUM(Z34:Z37) -> 260.24444
A34: Онгудайский муниципальный район | B34: =SUM(C34:F34) -> 3880.3086 | C34: =[116]Численность_МР!X11*$C$93/1000*12 -> 3337.0714 | D34: =[116]Численность_МР!Y11*$D$93/1000*12 -> 431.77375 | E34: =AD13 -> 42.019 | F34: =AE13 -> 69.444444 | G34: =SUM(H34:K34) -> 3815.1098 | H34: =[116]Численность_МР!AA11*$C$93/1000*12 -> 3279.342 | I34: =[116]Численность_МР!AB11*$D$93/1000*12 -> 424.30432 | J34: =E34 -> 42.019 | K34: =F34 -> 69.444444 | L34: =SUM(M34:P34) -> 3751.0389 | M34: =[116]Численность_МР!AD11*$C$93/1000*12 -> 3222.6114 | N34: =[116]Численность_МР!AE11*$D$93/1000*12 -> 416.96411 | O34: =J34 -> 42.019 | P34: =K34 -> 69.444444 | Q34: =SUM(R34:U34) -> 3688.0764 | R34: =[116]Численность_МР!AG11*$C$93/1000*12 -> 3166.8621 | S34: =[116]Численность_МР!AH11*$D$93/1000*12 -> 409.75088 | T34: =O34 -> 42.019 | U34: =P34 -> 69.444444 | V34: =SUM(W34:Z34) -> 3626.2031 | W34: =[116]Численность_МР!AJ11*$C$93/1000*12 -> 3112.0773 | X34: =[116]Численность_МР!AK11*$D$93/1000*12 -> 402.66243 | Y34: =T34 -> 42.019 | Z34: =U34 -> 69.444444
A35: Усть-Канский муниципальный район | B35: =SUM(C35:F35) -> 4015.1627 | C35: =[116]Численность_МР!X12*$C$93/1000*12 -> 3809.2851 | D35: =[116]Численность_МР!Y12*$D$93/1000*12 -> 50.872595 | E35: =AD14 -> 78.005 | F35: =AE14 -> 77 | G35: =SUM(H35:K35) -> 3948.3843 | H35: =[116]Численность_МР!AA12*$C$93/1000*12 -> 3743.3868 | I35: =[116]Численность_МР!AB12*$D$93/1000*12 -> 49.992529 | J35: =E35 -> 78.005 | K35: =F35 -> 77 | L35: =SUM(M35:P35) -> 3882.7611 | M35: =[116]Численность_МР!AD12*$C$93/1000*12 -> 3678.6284 | N35: =[116]Численность_МР!AE12*$D$93/1000*12 -> 49.127688 | O35: =J35 -> 78.005 | P35: =K35 -> 77 | Q35: =SUM(R35:U35) -> 3818.2731 | R35: =[116]Численность_МР!AG12*$C$93/1000*12 -> 3614.9903 | S35: =[116]Численность_МР!AH12*$D$93/1000*12 -> 48.277808 | T35: =O35 -> 78.005 | U35: =P35 -> 77 | V35: =SUM(W35:Z35) -> 3754.9007 | W35: =[116]Численность_МР!AJ12*$C$93/1000*12 -> 3552.4531 | X35: =[116]Численность_МР!AK12*$D$93/1000*12 -> 47.44263 | Y35: =T35 -> 78.005 | Z35: =U35 -> 77
A36: Усть-Коксинский муниципальный район | B36: =SUM(C36:F36) -> 4340.9344 | C36: =[116]Численность_МР!X13*$C$93/1000*12 -> 4175.4623 | D36: =[116]Численность_МР!Y13*$D$93/1000*12 -> 65.078124 | E36: =AD15 -> 59.594 | F36: =AE15 -> 40.8 | G36: =SUM(H36:K36) -> 4267.5756 | H36: =[116]Численность_МР!AA13*$C$93/1000*12 -> 4103.2293 | I36: =[116]Численность_МР!AB13*$D$93/1000*12 -> 63.952311 | J36: =E36 -> 59.594 | K36: =F36 -> 40.8 | L36: =SUM(M36:P36) -> 4195.4858 | M36: =[116]Численность_МР!AD13*$C$93/1000*12 -> 4032.2458 | N36: =[116]Численность_МР!AE13*$D$93/1000*12 -> 62.845974 | O36: =J36 -> 59.594 | P36: =K36 -> 40.8 | Q36: =SUM(R36:U36) -> 4124.6432 | R36: =[116]Численность_МР!AG13*$C$93/1000*12 -> 3962.4904 | S36: =[116]Численность_МР!AH13*$D$93/1000*12 -> 61.758776 | T36: =O36 -> 59.594 | U36: =P36 -> 40.8 | V36: =SUM(W36:Z36) -> 4055.026 | W36: =[116]Численность_МР!AJ13*$C$93/1000*12 -> 3893.9416 | X36: =[116]Численность_МР!AK13*$D$93/1000*12 -> 60.690385 | Y36: =T36 -> 59.594 | Z36: =U36 -> 40.8
A37: Шебалинский муниципальный район | B37: =SUM(C37:F37) -> 3567.3583 | C37: =[116]Численность_МР!X14*$C$93/1000*12 -> 3263.6323 | D37: =[116]Численность_МР!Y14*$D$93/1000*12 -> 17.268997 | E37: =AD16 -> 213.457 | F37: =AE16 -> 73 | G37: =SUM(H37:K37) -> 3510.6007 | H37: =[116]Численность_МР!AA14*$C$93/1000*12 -> 3207.1734 | I37: =[116]Численность_МР!AB14*$D$93/1000*12 -> 16.970253 | J37: =E37 -> 213.457 | K37: =F37 -> 73 | L37: =SUM(M37:P37) -> 3454.8249 | M37: =[116]Численность_МР!AD14*$C$93/1000*12 -> 3151.6912 | N37: =[116]Численность_МР!AE14*$D$93/1000*12 -> 16.676678 | O37: =J37 -> 213.457 | P37: =K37 -> 73 | Q37: =SUM(R37:U37) -> 3400.014 | R37: =[116]Численность_МР!AG14*$C$93/1000*12 -> 3097.1689 | S37: =[116]Численность_МР!AH14*$D$93/1000*12 -> 16.388181 | T37: =O37 -> 213.457 | U37: =P37 -> 73 | V37: =SUM(W37:Z37) -> 3346.1513 | W37: =[116]Численность_МР!AJ14*$C$93/1000*12 -> 3043.5897 | X37: =[116]Численность_МР!AK14*$D$93/1000*12 -> 16.104676 | Y37: =T37 -> 213.457 | Z37: =U37 -> 73
A38: АПО-3 | B38: =SUM(B39:B40) -> 8747.3052 | C38: =SUM(C39:C40) -> 8232.4357 | D38: =SUM(D39:D40) -> 157.82144 | E38: =SUM(E39:E40) -> 73.928 | F38: =SUM(F39:F40) -> 283.12 | G38: =SUM(G39:G40) -> 8602.1587 | H38: =SUM(H39:H40) -> 8090.0195 | I38: =SUM(I39:I40) -> 155.09122 | ... Z38: =SUM(Z39:Z40) -> 283.12
A39: Кош-Агачский муниципальный район | B39: =SUM(C39:F39) -> 5448.6613 | C39: =[116]Численность_МР!X15*$C$93/1000*12 -> 5128.2513 | D39: =[116]Численность_МР!Y15*$D$93/1000*12 -> 0 | E39: =AD18 -> 39.69 | F39: =AE18 -> 280.72 | G39: =SUM(H39:K39) -> 5359.9456 | H39: =[116]Численность_МР!AA15*$C$93/1000*12 -> 5039.5356 | I39: =[116]Численность_МР!AB15*$D$93/1000*12 -> 0 | J39: =E39 -> 39.69 | K39: =F39 -> 280.72 | L39: =SUM(M39:P39) -> 5272.7646 | M39: =[116]Численность_МР!AD15*$C$93/1000*12 -> 4952.3546 | N39: =[116]Численность_МР!AE15*$D$93/1000*12 -> 0 | O39: =J39 -> 39.69 | P39: =K39 -> 280.72 | Q39: =SUM(R39:U39) -> 5187.0918 | R39: =[116]Численность_МР!AG15*$C$93/1000*12 -> 4866.6818 | S39: =[116]Численность_МР!AH15*$D$93/1000*12 -> 0 | T39: =O39 -> 39.69 | U39: =P39 -> 280.72 | V39: =SUM(W39:Z39) -> 5102.9011 | W39: =[116]Численность_МР!AJ15*$C$93/1000*12 -> 4782.4911 | X39: =[116]Численность_МР!AK15*$D$93/1000*12 -> 0 | Y39: =T39 -> 39.69 | Z39: =U39 -> 280.72
A40: Улаганский муниципальный район | B40: =SUM(C40:F40) -> 3298.6438 | C40: =[116]Численность_МР!X16*$C$93/1000*12 -> 3104.1844 | D40: =[116]Численность_МР!Y16*$D$93/1000*12 -> 157.82144 | E40: =AD19 -> 34.238 | F40: =AE19 -> 2.4 | G40: =SUM(H40:K40) -> 3242.2131 | H40: =[116]Численность_МР!AA16*$C$93/1000*12 -> 3050.4838 | I40: =[116]Численность_МР!AB16*$D$93/1000*12 -> 155.09122 | J40: =E40 -> 34.238 | K40: =F40 -> 2.4 | L40: =SUM(M40:P40) -> 3186.7585 | M40: =[116]Численность_МР!AD16*$C$93/1000*12 -> 2997.7123 | N40: =[116]Численность_МР!AE16*$D$93/1000*12 -> 152.40823 | O40: =J40 -> 34.238 | P40: =K40 -> 2.4 | Q40: =SUM(R40:U40) -> 3132.2633 | R40: =[116]Численность_МР!AG16*$C$93/1000*12 -> 2945.8536 | S40: =[116]Численность_МР!AH16*$D$93/1000*12 -> 149.77166 | T40: =O40 -> 34.238 | U40: =P40 -> 2.4 | V40: =SUM(W40:Z40) -> 3078.7108 | W40: =[116]Численность_МР!AJ16*$C$93/1000*12 -> 2894.8921 | X40: =[116]Численность_МР!AK16*$D$93/1000*12 -> 147.1807 | Y40: =T40 -> 34.238 | Z40: =U40 -> 2.4
A46: Объем ТКО, образуемых на территории Республики Алтай, в разрезе муниципальных районов, за период с 2025 по 2035 годы, куб.м
A48: Наименование муниципального района или городского округа/зоны деятельности регионального оператора | B48: 2025 год | G48: 2026 год | L48: 2027 год | Q48: 2028 год | V48: 2029 год | AA48: 2030 год
B49: ИТОГО | C49: ИЖС | D49: МКД | E49: ЮЛ, ИП | F49: Мед.отходы | G49: ИТОГО | H49: ИЖС | I49: МКД | J49: ЮЛ, ИП | K49: Мед.отходы | L49: ИТОГО | M49: ИЖС | N49: МКД | O49: ЮЛ, ИП | P49: Мед.отходы | Q49: ИТОГО | R49: ИЖС | S49: МКД | T49: ЮЛ, ИП | U49: Мед.отходы | V49: ИТОГО | W49: ИЖС | X49: МКД | Y49: ЮЛ, ИП | Z49: Мед.отходы | AA49: ИТОГО | AB49: ИЖС | AC49: МКД | AD49: ЮЛ, ИП | AE49: Мед.отходы
A50: Республика Алтай | B50: =B51+B57+B62 -> 397242.58 | C50: =C51+C57+C62 -> 292683.1 | D50: =D51+D57+D62 -> 45247.194 | E50: =E51+E57+E62 -> 49727.779 | F50: =F51+F57+F62 -> 9584.51 | G50: =G51+G57+G62 -> 391396.59 | H50: =H51+H57+H62 -> 287619.86 | I50: =I51+I57+I62 -> 44464.444 | ... AE50: =AE51+AE57+AE62 -> 9584.51
...
